BEGIN:VCALENDAR
VERSION:2.0
PRODID:-//Das W
 //NONSGML Events //EN
CALSCALE:GREGORIAN
X-WR-CALNAME:Das W
BEGIN:VEVENT
CREATED:20220421T100819Z
UID:2637
DTSTART;TZID=Europe/Copenhagen:20220525T180000
DTEND;TZID=Europe/Copenhagen:20220525T210000
DTSTAMP:20260419T181408Z
LOCATION:Café Z im Wallzentrum, Neuer Wall 2, 47441 Moers
DESCRIPTION:<div class="entry-content"> <div class="entry-content"> Ein reichlich verschrobener Typ feiert seinen 200. Todestag, und wir feiern mit: Zeit seines Lebens war Ernst Theodor Amadeus Hoffmann ein Getriebener, Unterschätzter, unglücklich Verliebter – ein Freak. Seine düsteren Phantasien sollten e
SUMMARY:S.F.NO.12 – EINE PARTY FÜR E.T.A. HOFFMANN- ZU GAST IM STUDIO
ORGANIZER:Das W
URL;VALUE=URI:https://www.dasw.de/kalender/s-f-no-12-eine-party-fuer-e-t-a-hoffmann-zu-gast-im-pulverhaus/
TRANSP:OPAQUE
BEGIN:VALARM
ACTION:DISPLAY
TRIGGER;VALUE=DATE-TIME:20220525T000000Z
DESCRIPTION:Reminder for S.F.NO.12 – EINE PARTY FÜR E.T.A. HOFFMANN- ZU GAST IM STUDIO
END:VALARM
END:VEVENT
END:VCALENDAR
