BEGIN:VCALENDAR
VERSION:2.0
PRODID:-//Das W
 //NONSGML Events //EN
CALSCALE:GREGORIAN
X-WR-CALNAME:Das W
BEGIN:VEVENT
CREATED:20220429T070220Z
UID:2669
DTSTART;TZID=Europe/Copenhagen:20220511T183000
DTEND;TZID=Europe/Copenhagen:20220511T101538
DTSTAMP:20260423T081538Z
LOCATION:Café Z im Wallzentrum, Neuer Wall 2, 47441 Moers
DESCRIPTION:<strong>Kommunale Bürgerräte – in der SCI Volksschule Moers </strong> Zum Abschluss der Veranstaltungsreihe „Stadt machen!“ Ende März wurden in einer Eigentümer*innen-versammlung im „W - Zentrum für urbanes Zusammenleben“ darüber diskutiert, wie Moerserinnen und Moerser Verantwortung
SUMMARY:Kommunale Bürgerräte- Diskurs in der SCI Volksschule Moers
ORGANIZER:Das W
URL;VALUE=URI:https://www.dasw.de/kalender/kommunale-buergerraete-in-der-sci-volksschule/
TRANSP:OPAQUE
BEGIN:VALARM
ACTION:DISPLAY
TRIGGER;VALUE=DATE-TIME:20220511T000000Z
DESCRIPTION:Reminder for Kommunale Bürgerräte- Diskurs in der SCI Volksschule Moers
END:VALARM
END:VEVENT
END:VCALENDAR
