BEGIN:VCALENDAR
VERSION:2.0
PRODID:-//Das W
 //NONSGML Events //EN
CALSCALE:GREGORIAN
X-WR-CALNAME:Das W
BEGIN:VEVENT
CREATED:20220513T060718Z
UID:2673
DTSTART;TZID=Europe/Copenhagen:20220524T183000
DTEND;TZID=Europe/Copenhagen:20220524T200000
DTSTAMP:20260423T080718Z
LOCATION:Café Z im Wallzentrum, Neuer Wall 2, 47441 Moers
DESCRIPTION:<strong>Initiative „STADT MACHEN!“ – Ein Bürgerrat für Moers?</strong> Die gemeinsam vom W – Zentrum für urbanes Zusammenleben und dem Laboratorium im letzten Jahr durchgeführte Veranstaltungsreihe „Stadt machen!“ hat bereits viele Anregungen für neue Formen der Bürger*innenbeteili
SUMMARY:Initiative „STADT MACHEN!“ – Ein Bürgerrat für Moers?
ORGANIZER:Das W
URL;VALUE=URI:https://www.dasw.de/kalender/initiative-stadt-machen-ein-buergerrat-fuer-moers/
TRANSP:OPAQUE
BEGIN:VALARM
ACTION:DISPLAY
TRIGGER;VALUE=DATE-TIME:20220524T000000Z
DESCRIPTION:Reminder for Initiative „STADT MACHEN!“ – Ein Bürgerrat für Moers?
END:VALARM
END:VEVENT
END:VCALENDAR
